BEGIN:VCALENDAR
VERSION:2.0
PRODID:-//ChamberMaster//Event Calendar 2.0//EN
METHOD:PUBLISH
X-PUBLISHED-TTL:P3D
REFRESH-INTERVAL:P3D
CALSCALE:GREGORIAN
BEGIN:VEVENT
DTSTART:20240505T210000Z
DTEND:20240506T000000Z
X-MICROSOFT-CDO-ALLDAYEVENT:FALSE
SUMMARY:Tor House Garden Party
DESCRIPTION:Explore and Photograph Jeffers' hand-built home\, Hawk Tower and Gardens!\n\n\n\nSunday\, May 5\, 2024\n\n2:00pm - 5:00pm\n\n\n\nFor Ticket Information\, visit www.TorHouse.com
X-ALT-DESC;FMTTYPE=text/html:Explore and Photograph Jeffers&#39\; hand-built home\, Hawk Tower and Gardens!<br />\n<br />\nSunday\, May 5\, 2024<br />\n2:00pm - 5:00pm<br />\n<br />\nFor Ticket Information\, visit www.TorHouse.com
LOCATION:Tor House 26304 Ocean View Ave Carmel\, CA
UID:e.2640.53238
SEQUENCE:3
DTSTAMP:20260425T154359Z
URL:https://members.carmelchamber.org/events/details/tor-house-garden-party-53238
END:VEVENT

END:VCALENDAR
