BEGIN:VCALENDAR
VERSION:2.0
PRODID:-//ChamberMaster//Event Calendar 2.0//EN
METHOD:PUBLISH
X-PUBLISHED-TTL:P3D
REFRESH-INTERVAL:P3D
CALSCALE:GREGORIAN
BEGIN:VEVENT
DTSTART:20240717T213000Z
DTEND:20240717T223000Z
X-MICROSOFT-CDO-ALLDAYEVENT:FALSE
SUMMARY:The Carmel Foundation Wednesday Program: “I Can See the Moon\, But Not the Stars”
DESCRIPTION:Author Carmela Cantisani will share her successful and insightful life story. Her memoir spans three generations of poignant and hilarious true takes of family life in Italy and her family coping with blindness. Carmela will share her immigrant view of America and her own successful coming of age story as she morphs into a teacher at the Defense Language Institute\, a blind medal skier and an accomplished businesswoman.
X-ALT-DESC;FMTTYPE=text/html:Author Carmela Cantisani will share her successful and insightful life story. Her memoir spans three generations of poignant and hilarious true takes of family life in Italy and her family coping with blindness. Carmela will share her immigrant view of America and her own successful coming of age story as she morphs into a teacher at the Defense Language Institute\, a blind medal skier and an accomplished businesswoman.
LOCATION:8th & Lincoln\, Carmel
UID:e.2640.53552
SEQUENCE:3
DTSTAMP:20260420T211836Z
URL:https://members.carmelchamber.org/events/details/the-carmel-foundation-wednesday-program-i-can-see-the-moon-but-not-the-stars-53552
END:VEVENT

END:VCALENDAR
