BEGIN:VCALENDAR
VERSION:2.0
PRODID:-//ChamberMaster//Event Calendar 2.0//EN
METHOD:PUBLISH
X-PUBLISHED-TTL:P3D
REFRESH-INTERVAL:P3D
CALSCALE:GREGORIAN
BEGIN:VEVENT
DTSTART:20260425T180000Z
DTEND:20260425T230000Z
X-MICROSOFT-CDO-ALLDAYEVENT:FALSE
SUMMARY:Rummage Sale at Carmel Youth Center
DESCRIPTION:Carmel Youth Center Rummage Sale\n\nFurniture\, books\, games\, art supplies and more!
X-ALT-DESC;FMTTYPE=text/html:Carmel Youth Center Rummage Sale<br />\nFurniture\, books\, games\, art supplies and more!
LOCATION:Carmel Youth Center\, Garage Torres & 4th St. Carmel by the Sea
UID:e.2640.61983
SEQUENCE:3
DTSTAMP:20260421T032905Z
URL:https://members.carmelchamber.org/events/details/rummage-sale-at-carmel-youth-center-61983
END:VEVENT

END:VCALENDAR
