BEGIN:VCALENDAR
VERSION:2.0
PRODID:-//ChamberMaster//Event Calendar 2.0//EN
METHOD:PUBLISH
X-PUBLISHED-TTL:P3D
REFRESH-INTERVAL:P3D
CALSCALE:GREGORIAN
BEGIN:VEVENT
DTSTART:20260520T010000Z
DTEND:20260520T040000Z
X-MICROSOFT-CDO-ALLDAYEVENT:FALSE
SUMMARY:Rhythms & Ivories
DESCRIPTION:Join us in Shearwater Tavern for Rhythms & Ivories open mic night on the first and third Tuesday of each month! Hosted by Angie Hughes with Maddeline Edstrom on piano. Full menu and full bar available.
X-ALT-DESC;FMTTYPE=text/html:<span style="color:rgb(0\, 0\, 0)\; font-family:dosis\,arial\,helvetica\,sans-serif\; font-size:18px">Join us in Shearwater Tavern for Rhythms &amp\; Ivories open mic night on the first and third Tuesday of each month! Hosted by Angie Hughes with Maddeline Edstrom on piano. Full menu and full bar available.&nbsp\;</span>
LOCATION:3665 Rio Road Carmel\, CA 93923
UID:e.2640.60766
SEQUENCE:3
DTSTAMP:20260421T090208Z
URL:https://members.carmelchamber.org/events/details/rhythms-ivories-05-19-2026-60766
END:VEVENT

END:VCALENDAR
