BEGIN:VCALENDAR
VERSION:2.0
PRODID:-//ChamberMaster//Event Calendar 2.0//EN
METHOD:PUBLISH
X-PUBLISHED-TTL:P3D
REFRESH-INTERVAL:P3D
CALSCALE:GREGORIAN
BEGIN:VEVENT
DTSTART:20260506T010000Z
DTEND:20260506T040000Z
X-MICROSOFT-CDO-ALLDAYEVENT:FALSE
SUMMARY:Rhythms & Ivories
DESCRIPTION:Join us in Shearwater Tavern for Rhythms & Ivories open mic night on the first and third Tuesday of each month! Hosted by Angie Hughes with Maddeline Edstrom on piano. Full menu and full bar available.
X-ALT-DESC;FMTTYPE=text/html:Join us in Shearwater Tavern for Rhythms &amp\; Ivories open mic night on the first and third Tuesday of each month! Hosted by Angie Hughes with Maddeline Edstrom on piano. Full menu and full bar available.&nbsp\;
LOCATION:3665 Rio Road Carmel\, CA 93923
UID:e.2640.60507
SEQUENCE:3
DTSTAMP:20260421T104206Z
URL:https://members.carmelchamber.org/events/details/rhythms-ivories-05-05-2026-60507
END:VEVENT

END:VCALENDAR
