BEGIN:VCALENDAR
VERSION:2.0
PRODID:-//ChamberMaster//Event Calendar 2.0//EN
METHOD:PUBLISH
X-PUBLISHED-TTL:P3D
REFRESH-INTERVAL:P3D
CALSCALE:GREGORIAN
BEGIN:VEVENT
DTSTART:20190817T000000Z
DTEND:20190817T040000Z
X-MICROSOFT-CDO-ALLDAYEVENT:FALSE
SUMMARY:Opening Reception with Artist\, Cristian Korn at Collectors Gallery
DESCRIPTION:Please join us for the opening art reception of our beloved artist\, Prof. Cristian Korn at Collectors Gallery in downtown Carmel-by-the-Sea. Cristian is setting new trends in abstract expressionism in Europe with huge collectors all over the world.  We are honored to hold exclusive representation of his art in America.  We will be opening the exhibition on August 16th\, 2019 at 5:00pm.  We will have music\, food\, and art ~ with the artist himself.
X-ALT-DESC;FMTTYPE=text/html:<span style="font-size:12px\;"><span style="font-family:verdana\;">Please join us for the opening art reception of our beloved artist\, Prof. <span style="font-size:14px\;">Cristian Korn</span> at <span style="font-size:14px\;">Collectors Gallery </span>in downtown Carmel-by-the-Sea. Cristian is setting new trends in abstract expressionism in Europe with huge collectors all over the world.&nbsp\; We are honored to hold exclusive representation of his art in America.&nbsp\; We will be opening the exhibition on August 16th\, 2019 at 5:00pm.&nbsp\; We will have music\, food\, and art ~ with the artist himself.</span></span>
LOCATION:Collectors Gallery San Carlos between 5th & 6th Carmel-by-the-Sea
UID:e.2640.33439
SEQUENCE:3
DTSTAMP:20260419T162754Z
URL:https://members.carmelchamber.org/events/details/opening-reception-with-artist-cristian-korn-at-collectors-gallery-33439
END:VEVENT

END:VCALENDAR
