BEGIN:VCALENDAR
VERSION:2.0
PRODID:-//ChamberMaster//Event Calendar 2.0//EN
METHOD:PUBLISH
X-PUBLISHED-TTL:P3D
REFRESH-INTERVAL:P3D
CALSCALE:GREGORIAN
BEGIN:VEVENT
DTSTART:20260504T160000Z
DTEND:20260504T210000Z
X-MICROSOFT-CDO-ALLDAYEVENT:FALSE
SUMMARY:Glen Deven Ranch Grounds Uplift and Camps Set up
DESCRIPTION:This annual volunteer event will be focused around some beautification and grounds improvement at our scenic Glen Deven Ranch property. We will be conducting some plantings and groundskeeping duties such as removing decayed structures\, pruning back vegetation and improving the visitors experience. We will also be setting up the camps program tents and preparing the ranch for our Youth Outdoors Programs. Come learn more about our youth camps experience and enjoy one of our treasured landscapes.
X-ALT-DESC;FMTTYPE=text/html:<p>This annual volunteer event will be focused around some beautification and grounds improvement at our scenic Glen Deven Ranch property. We will be conducting some plantings and groundskeeping duties such as removing decayed structures\, pruning back vegetation and improving the visitors experience. We will also be setting up the camps program tents and preparing the ranch for our Youth Outdoors Programs. Come learn more about our youth camps experience and enjoy one of our treasured landscapes.</p>\n
LOCATION:Glen Deven Ranch
UID:e.2640.29756
SEQUENCE:3
DTSTAMP:20260423T154054Z
URL:https://members.carmelchamber.org/events/details/glen-deven-ranch-grounds-uplift-and-camps-set-up-05-04-2026-29756
END:VEVENT

END:VCALENDAR
