BEGIN:VCALENDAR
VERSION:2.0
PRODID:-//ChamberMaster//Event Calendar 2.0//EN
METHOD:PUBLISH
X-PUBLISHED-TTL:P3D
REFRESH-INTERVAL:P3D
CALSCALE:GREGORIAN
BEGIN:VEVENT
DTSTART:20260307T180000Z
DTEND:20260307T200000Z
X-MICROSOFT-CDO-ALLDAYEVENT:FALSE
SUMMARY:Flower Walk & Workshop at Earthbound Farm Stand
DESCRIPTION:Join us for a guided walk through our organic fields\, then return to the Pavilion to learn expert tips on arranging beautiful bouquets. Participants will leave with one large and one small vase arrangement of their own creation.
X-ALT-DESC;FMTTYPE=text/html:Join us for a guided walk through our organic fields\, then return to the Pavilion to learn expert tips on arranging beautiful bouquets. Participants will leave with one large and one small vase arrangement of their own creation.
LOCATION:7250 Carmel Valley Rd.\, Carmel\, CA 93923 Mon - Sat 8am-5pm Sun 9am-5pm 831-625-6219
UID:e.2640.60235
SEQUENCE:3
DTSTAMP:20260420T084218Z
URL:https://members.carmelchamber.org/events/details/flower-walk-workshop-at-earthbound-farm-stand-03-07-2026-60235
END:VEVENT

END:VCALENDAR
