BEGIN:VCALENDAR
VERSION:2.0
PRODID:-//ChamberMaster//Event Calendar 2.0//EN
METHOD:PUBLISH
X-PUBLISHED-TTL:P3D
REFRESH-INTERVAL:P3D
CALSCALE:GREGORIAN
BEGIN:VEVENT
DTSTART:20260429T213000Z
DTEND:20260429T223000Z
X-MICROSOFT-CDO-ALLDAYEVENT:FALSE
SUMMARY:Carmel Foundation Wednesday Program: County of Monterey Area Agency on Aging
DESCRIPTION:The Agency is dedicated to empowering and supporting older adults and individuals living with disabilities so they can live safely\, independently\, and with dignity. Panelists Marleen Bush\, Edgar Calvillo\, and Travis Beye will discuss the Agency's work\, and the valuable resources available to local residents and their families. Presented in partnership with Central Coast VNA & Hospice and Central Coast Senior Services.
X-ALT-DESC;FMTTYPE=text/html:<span style="color:#231F20"><span style="font-family:avenir next lt pro\,sans-serif">The Agency is dedicated to empowering and supporting older adults and individuals living with disabilities so they can live safely\, independently\, and with dignity. Panelists Marleen Bush\, Edgar Calvillo\, and Travis Beye will discuss the Agency&rsquo\;s work\, and the valuable resources available to local residents and their families. <em>Presented in partnership with Central Coast VNA &amp\; Hospice and Central Coast Senior Services.</em></span></span>
LOCATION:Diment Hall The Carmel Foundation SE Corner or Lincoln & 8th Carmel\, CA 93921
UID:e.2640.61982
SEQUENCE:3
DTSTAMP:20260421T213902Z
URL:https://members.carmelchamber.org/events/details/carmel-foundation-wednesday-program-county-of-monterey-area-agency-on-aging-61982
END:VEVENT

END:VCALENDAR
