BEGIN:VCALENDAR
VERSION:2.0
PRODID:-//ChamberMaster//Event Calendar 2.0//EN
METHOD:PUBLISH
X-PUBLISHED-TTL:P3D
REFRESH-INTERVAL:P3D
CALSCALE:GREGORIAN
BEGIN:VEVENT
DTSTART:20330515T180000Z
DTEND:20330516T040000Z
X-MICROSOFT-CDO-ALLDAYEVENT:FALSE
SUMMARY:Carmel Art Festival
DESCRIPTION:33rd Annual Carmel Art Festival in Carmel-by-the-Sea California May 15 - 17\, 2026 held in Devendorf Park\, a plein air competition with 60 juried artists and art sale. Live music. Viewing of art FREE to public.
X-ALT-DESC;FMTTYPE=text/html:33rd Annual Carmel Art Festival in Carmel-by-the-Sea California May 15 - 17\, 2026 held in Devendorf Park\, a plein air competition with 60 juried artists and art sale. Live music. Viewing of art FREE to public.&nbsp\;
LOCATION:
UID:e.2640.57415
SEQUENCE:3
DTSTAMP:20260423T095316Z
URL:https://members.carmelchamber.org/events/details/carmel-art-festival-05-15-2033-57415
END:VEVENT

END:VCALENDAR
