BEGIN:VCALENDAR
VERSION:2.0
PRODID:-//ChamberMaster//Event Calendar 2.0//EN
METHOD:PUBLISH
X-PUBLISHED-TTL:P3D
REFRESH-INTERVAL:P3D
CALSCALE:GREGORIAN
BEGIN:VEVENT
DTSTART:20200208T210000Z
DTEND:20200209T000000Z
X-MICROSOFT-CDO-ALLDAYEVENT:FALSE
SUMMARY:BHODY presents Jarilyn Jewelry
DESCRIPTION:BHODY\nINSPIRED LIVING\n \n\nPresents Jarilyn Jewelry ~ Because You Deserve It\n\nA showcase of exquisite gemstones from Jarilyn Jewelry \n\nand premium apparel from BHODY.\n\nFebruary 8th & 9th from 1:00PM until 5:00PM
X-ALT-DESC;FMTTYPE=text/html:<div style="text-align: center\;"><span style="font-size:28px"><strong>BHODY</strong></span>\n<div><span style="font-size:22px">INSPIRED LIVING</span></div>\n&nbsp\;\n\n<div><span style="font-size:22px">Presents Jarilyn Jewelry ~ Because You Deserve It</span></div>\n\n<div><span style="color: rgb(29\, 33\, 41)\; font-family: Helvetica\, Arial\, sans-serif\; font-size: 14px\; white-space: pre-wrap\;"><span style="font-size:18px\;">A showcase of exquisite gemstones from Jarilyn Jewelry </span><br />\n<span style="font-size:18px\;">and premium apparel from BHODY.</span></span><br />\n<span style="font-size:22px"><span style="font-size:18px">February 8th &amp\; 9th from 1:00PM until 5:00PM</span></span></div>\n\n<div style="text-align: left\;">&nbsp\;</div>\n</div>\n
LOCATION:Ocean Avenue & Monte Verde Carmel-by-the-Sea
UID:e.2640.36012
SEQUENCE:3
DTSTAMP:20260423T152739Z
URL:https://members.carmelchamber.org/events/details/bhody-presents-jarilyn-jewelry-36012
END:VEVENT

END:VCALENDAR
