BEGIN:VCALENDAR
VERSION:2.0
PRODID:-//ChamberMaster//Event Calendar 2.0//EN
METHOD:PUBLISH
X-PUBLISHED-TTL:P3D
REFRESH-INTERVAL:P3D
CALSCALE:GREGORIAN
BEGIN:VEVENT
DTSTART:20220825T003000Z
DTEND:20220825T023000Z
X-MICROSOFT-CDO-ALLDAYEVENT:FALSE
SUMMARY:Annual Mixer at the Crossroads
DESCRIPTION:COME & CELEBRATE CAR WEEK HANGOVER WITH US AT THE CROSSROAD'S CARMEL AUGUST MIXER.\n\n\n\nWe will be celebrating the calm after Car Week and everything retail. Enjoy the beautiful August weather\, mix and mingle with fellow Chamber members and Crossroads shop owners.  Enjoy yummy sweet and savory bites from some of our Crossroads Eateries while sipping delicious wines from Vin Wine Bar & Bottle Boutique. There will be some great music and of course and a drawing! \n\n\n\nNothing is more important than supporting local businesses\, and especially smaller\, local purveyors who work so hard to make Carmel such a special community.  The Holidays are just around the corner..YES THEY ARE and the best gift you can give is shopping local\, as often as you can and in as many ways as you can.
X-ALT-DESC;FMTTYPE=text/html:<strong><span style="font-family:calibri\,sans-serif\;"><span style="font-size:11.0pt\;">COME &amp\; CELEBRATE CAR WEEK HANGOVER WITH US AT THE CROSSROAD&#39\;S CARMEL AUGUST MIXER.</span></span></strong><br />\n<br />\n<span style="font-family:calibri\,sans-serif\;"><span style="font-size:11.0pt\;">We will be celebrating the calm after Car Week and everything retail. Enjoy the beautiful August weather\, mix and mingle with fellow Chamber members and Crossroads shop owners.&nbsp\; Enjoy yummy sweet and savory bites from some of our Crossroads Eateries while sipping delicious wines from Vin Wine Bar &amp\; Bottle Boutique.</span></span><span style="font-family:calibri\,sans-serif\;"><span style="font-size:11.0pt\;">&nbsp\;There will be some great music and of course and a drawing!&nbsp\;</span></span><br />\n<br />\n<span style="font-family:calibri\,sans-serif\;"><span style="font-size:11.0pt\;">Nothing is more important than supporting local businesses\, and especially smaller\, local purveyors who work so hard to make Carmel such a special community.&nbsp\; The Holidays are just around the corner..</span></span><strong><span style="font-family:calibri\,sans-serif\;"><span style="font-size:14.0pt\;">YES THEY ARE&nbsp\;</span></span></strong><span style="font-family:calibri\,sans-serif\;"><span style="font-size:11.0pt\;">and the best gift you can give is shopping local\, as often as you can and in as many ways as you can.</span></span>
LOCATION:Vin Wine Bar & Bottle Boutique at The Crossroads Carmel Hwy 1 & Rio Rd. 237 Crossroads Blvd. Carmel\, CA 93923
UID:e.2640.48372
SEQUENCE:3
DTSTAMP:20260421T133510Z
URL:https://members.carmelchamber.org/events/details/annual-mixer-at-the-crossroads-48372
END:VEVENT

END:VCALENDAR
