BEGIN:VCALENDAR
VERSION:2.0
PRODID:-//ChamberMaster//Event Calendar 2.0//EN
METHOD:PUBLISH
X-PUBLISHED-TTL:P3D
REFRESH-INTERVAL:P3D
CALSCALE:GREGORIAN
BEGIN:VEVENT
DTSTART:20190801T230000Z
DTEND:20190802T010000Z
X-MICROSOFT-CDO-ALLDAYEVENT:FALSE
SUMMARY:2019 Summer Music Series
DESCRIPTION:Relax to the sounds of the area's finest musicians while enjoying wine by the glass or bottle.\n\n\n\nWhen\n\nEvery Thursday Afternoon\n\nJune 6th - August 29th\n\n \n\nTime\n\n4:00pm - 6:00pm\n\n \n\nWhere\n\nTaste Morgan\n\n204 Crossroads Blvd\n\nCarmel\, CA 93923\n\n\n\nNo RSVP or cover required!\n\n\n\nLineup:\n\n6.6.19 | AUSTIN METREYEON\n\n6.13.19 | ACE DE LA VERGNE\n\n6.20.19 | RAZZVIO\n\n6.27.19 | MARK BANKS\n\n7.11.19 | JOHN HARRIS\n\n7.18.19 | JOHN SHERRY\n\n7.25.19 | RAZZVIO\n\n8.1.19 | FRED MCCARTY\n\n8.8.19 | KIP ALLERT\n\n8.15.19 | ACE DE LA VERGNE\n\n8.22.19 | MICHAEL MARTINEZ\n\n8.29.19 | MARK BANKS
X-ALT-DESC;FMTTYPE=text/html:<div style="text-align:center">Relax to the sounds of the area&#39\;s finest musicians while enjoying wine by the glass or bottle.<br />\n<br />\n<strong>When</strong><br />\nEvery Thursday Afternoon<br />\nJune 6th - August 29th</div>\n\n<p style="text-align: center\;">&nbsp\;</p>\n\n<div style="text-align:center"><strong>Time</strong><br />\n4:00pm - 6:00pm</div>\n\n<p style="text-align: center\;">&nbsp\;</p>\n\n<div style="text-align:center"><strong>Where</strong><br />\nTaste Morgan<br />\n204 Crossroads Blvd<br />\nCarmel\, CA 93923</div>\n\n<p style="text-align: center\;"><br />\nNo RSVP or cover required!</p>\n\n<div style="text-align:center"><br />\n<strong>Lineup:</strong><br />\n6.6.19 | AUSTIN METREYEON<br />\n6.13.19 | ACE DE LA VERGNE<br />\n6.20.19 | RAZZVIO<br />\n6.27.19 | MARK BANKS<br />\n7.11.19 | JOHN HARRIS<br />\n7.18.19 | JOHN SHERRY<br />\n7.25.19 | RAZZVIO<br />\n8.1.19 | FRED MCCARTY<br />\n8.8.19 | KIP ALLERT<br />\n8.15.19 | ACE DE LA VERGNE<br />\n8.22.19 | MICHAEL MARTINEZ<br />\n8.29.19 | MARK BANKS</div>\n
LOCATION:Taste Morgan | 204 Crossroads Blvd\, Carmel\, CA 93923
UID:e.2640.31899
SEQUENCE:3
DTSTAMP:20260425T165450Z
URL:https://members.carmelchamber.org/events/details/2019-summer-music-series-08-01-2019-31899
END:VEVENT

END:VCALENDAR
